BEGIN:VCALENDAR
VERSION:2.0
PRODID:-//PROIDEA - ECPv6.15.13.1//NONSGML v1.0//EN
CALSCALE:GREGORIAN
METHOD:PUBLISH
X-WR-CALNAME:PROIDEA
X-ORIGINAL-URL:https://proidea.pl/en/
X-WR-CALDESC:Events for PROIDEA
REFRESH-INTERVAL;VALUE=DURATION:PT1H
X-Robots-Tag:noindex
X-PUBLISHED-TTL:PT1H
BEGIN:VTIMEZONE
TZID:UTC
BEGIN:STANDARD
TZOFFSETFROM:+0000
TZOFFSETTO:+0000
TZNAME:UTC
DTSTART:20210101T000000
END:STANDARD
END:VTIMEZONE
BEGIN:VEVENT
DTSTART;TZID=UTC:20221108T084500
DTEND;TZID=UTC:20221108T174500
DTSTAMP:20260422T105346
CREATED:20220905T095741Z
LAST-MODIFIED:20240228T092013Z
UID:4577-1667897100-1667929500@proidea.pl
SUMMARY:4Developers Wroclaw
DESCRIPTION:Wrocław citizens!\nAlready on 08.11.22 we see you during the local edition of 4Developers in your city!\nThat’s right\, we’re finally going to see each other again in a live conference after a two-year break. There will be a lot of practical lectures in 4 thematic tracks: Application Architecture\, .NET\, JavaScript\, Java.\n\nAnd all this in a relaxed\, intimate atmosphere! Don’t forget to drop by and find out what’s squeaking in the local IT community!\n4Developers Wroclaw is an intimate edition of the Largest Technology Festival in Poland:\n– several paths to choose from\n– A decent dose of IT knowledge\n– irreplaceable atmosphere\n– sharing of experiences\n\nYou are not to be missed!
URL:https://proidea.pl/en/kalendarium/4developers-wroclaw/
LOCATION:IBIS Styles Wroclaw Centrum\, 3 May Constitution Square\, Wroclaw\, 50-083\, Poland
END:VEVENT
END:VCALENDAR